BEGIN:VCALENDAR
VERSION:2.0
PRODID:-//Palazzo Milzetti - ECPv6.15.20//NONSGML v1.0//EN
CALSCALE:GREGORIAN
METHOD:PUBLISH
X-WR-CALNAME:Palazzo Milzetti
X-ORIGINAL-URL:https://palazzomilzetti.cultura.gov.it
X-WR-CALDESC:Eventi per Palazzo Milzetti
REFRESH-INTERVAL;VALUE=DURATION:PT1H
X-Robots-Tag:noindex
X-PUBLISHED-TTL:PT1H
BEGIN:VTIMEZONE
TZID:Europe/Rome
BEGIN:DAYLIGHT
TZOFFSETFROM:+0100
TZOFFSETTO:+0200
TZNAME:CEST
DTSTART:20220327T010000
END:DAYLIGHT
BEGIN:STANDARD
TZOFFSETFROM:+0200
TZOFFSETTO:+0100
TZNAME:CET
DTSTART:20221030T010000
END:STANDARD
BEGIN:DAYLIGHT
TZOFFSETFROM:+0100
TZOFFSETTO:+0200
TZNAME:CEST
DTSTART:20230326T010000
END:DAYLIGHT
BEGIN:STANDARD
TZOFFSETFROM:+0200
TZOFFSETTO:+0100
TZNAME:CET
DTSTART:20231029T010000
END:STANDARD
BEGIN:DAYLIGHT
TZOFFSETFROM:+0100
TZOFFSETTO:+0200
TZNAME:CEST
DTSTART:20240331T010000
END:DAYLIGHT
BEGIN:STANDARD
TZOFFSETFROM:+0200
TZOFFSETTO:+0100
TZNAME:CET
DTSTART:20241027T010000
END:STANDARD
END:VTIMEZONE
BEGIN:VEVENT
DTSTART;TZID=Europe/Rome:20230916T170000
DTEND;TZID=Europe/Rome:20230916T180000
DTSTAMP:20260419T152747
CREATED:20260205T132318Z
LAST-MODIFIED:20260205T132338Z
UID:11733-1694883600-1694887200@palazzomilzetti.cultura.gov.it
SUMMARY:Concerto ArsEmble
DESCRIPTION:Apertura dalle 9\,00 alle 18\,30\nOre 17.00\nArsEmble\nconcerto a cura dell’Associazione APS Cimamusic Arteducazione\nAsumi Motoyama soprano\, Ettore Marchi chitarra francese\, Maria Elena Ceccarelli clavicembalo \nUn sabato pomeriggio a Palazzo Milzetti con il gruppo ArsEnsable per ascoltare musiche sette-ottocentesche tipiche delle dimore dell’epoca. \nIl gruppo ArsEnsable\, fondato nel 2018\, nasce con il preciso intento di riproporre al pubblico musica poco eseguita o inedita del XVI-XVIII secolo. Grazie anche alla collaborazione di storici della musica\, il gruppo conduce ricerche organiche sul patrimonio delle tradizioni musicali in particolare legate all’Emilia Romagna. In questa occasione le musiche provengono da una collezione consistente in circa un migliaio di titoli appartenuta al nobile marchigiano Antonio Puccetti (1792-1841)\, conservata presso la biblioteca del Conservatorio di Bologna. \nL’evento rientra nell’ambito delle iniziative relative alle celebrazioni del secondo Centenario della morte di Felice Giani (1823-2023). \n  \n\n\n\nINTERO\nAGEVOLATO\nGRATUITO\n\n\n€ 6\,00\n€ 3\,00 (18-25 anni)\n0-18 anni\nPossessori della Carta Milzetti\nAltre gratuità previste
URL:https://palazzomilzetti.cultura.gov.it/event/concerto-arsemble/
LOCATION:Palazzo Milzetti\, Via Tonducci 15\, Faenza\, 48018\, Italy
ATTACH;FMTTYPE=image/jpeg:https://palazzomilzetti.cultura.gov.it/wp-content/uploads/2023/09/Concerto-16-settembre-2023-3.jpg
ORGANIZER;CN="Palazzo Milzetti":MAILTO:mn-bo.pamilzetti-ra@cultura.gov.it
END:VEVENT
END:VCALENDAR