BEGIN:VCALENDAR
VERSION:2.0
PRODID:-//Palazzo Milzetti - ECPv6.15.20//NONSGML v1.0//EN
CALSCALE:GREGORIAN
METHOD:PUBLISH
X-WR-CALNAME:Palazzo Milzetti
X-ORIGINAL-URL:https://palazzomilzetti.cultura.gov.it
X-WR-CALDESC:Eventi per Palazzo Milzetti
REFRESH-INTERVAL;VALUE=DURATION:PT1H
X-Robots-Tag:noindex
X-PUBLISHED-TTL:PT1H
BEGIN:VTIMEZONE
TZID:Europe/Rome
BEGIN:DAYLIGHT
TZOFFSETFROM:+0100
TZOFFSETTO:+0200
TZNAME:CEST
DTSTART:20220327T010000
END:DAYLIGHT
BEGIN:STANDARD
TZOFFSETFROM:+0200
TZOFFSETTO:+0100
TZNAME:CET
DTSTART:20221030T010000
END:STANDARD
BEGIN:DAYLIGHT
TZOFFSETFROM:+0100
TZOFFSETTO:+0200
TZNAME:CEST
DTSTART:20230326T010000
END:DAYLIGHT
BEGIN:STANDARD
TZOFFSETFROM:+0200
TZOFFSETTO:+0100
TZNAME:CET
DTSTART:20231029T010000
END:STANDARD
BEGIN:DAYLIGHT
TZOFFSETFROM:+0100
TZOFFSETTO:+0200
TZNAME:CEST
DTSTART:20240331T010000
END:DAYLIGHT
BEGIN:STANDARD
TZOFFSETFROM:+0200
TZOFFSETTO:+0100
TZNAME:CET
DTSTART:20241027T010000
END:STANDARD
END:VTIMEZONE
BEGIN:VEVENT
DTSTART;TZID=Europe/Rome:20231203T103000
DTEND;TZID=Europe/Rome:20231203T183000
DTSTAMP:20260422T130004
CREATED:20260205T100232Z
LAST-MODIFIED:20260205T100249Z
UID:11633-1701599400-1701628200@palazzomilzetti.cultura.gov.it
SUMMARY:#DOMENICALMUSEO
DESCRIPTION:Domenica 3 dicembre\nGIORNATA INTERNAZIONALE DELLE PERSONE CON DISABILITA’\nApertura 10.30 – 18.30\nIngresso gratuito \nSi rinnova l’appuntamento della prima domenica del mese ad ingresso gratuito\, previsto in tutti i siti statali (vedi sui social #domenicalmuseo). \nIl museo nel corso del 2023 ha ripensato il proprio percorso in direzione dell’accessibilità\, intesa in senso fisico\, sensoriale e cognitivo. La giornata delle disabilità è un’ottima occasione per accogliere e il pubblico e presentare tutte le possibilità di esplorazione di cui il museo si è dotato.\nIl progetto è stato realizzato in collaborazione con il Laboratorio FrameLab dell’Università degli Studi di Bologna\, sede di Ravenna.
URL:https://palazzomilzetti.cultura.gov.it/event/domenicalmuseo-17/
LOCATION:Palazzo Milzetti\, Via Tonducci 15\, Faenza\, 48018\, Italy
ATTACH;FMTTYPE=image/jpeg:https://palazzomilzetti.cultura.gov.it/wp-content/uploads/2023/12/Giornata-disabilita.jpg
ORGANIZER;CN="Palazzo Milzetti":MAILTO:mn-bo.pamilzetti-ra@cultura.gov.it
END:VEVENT
END:VCALENDAR