BEGIN:VCALENDAR
VERSION:2.0
PRODID:-//Palazzo Milzetti - ECPv6.15.20//NONSGML v1.0//EN
CALSCALE:GREGORIAN
METHOD:PUBLISH
X-WR-CALNAME:Palazzo Milzetti
X-ORIGINAL-URL:https://palazzomilzetti.cultura.gov.it
X-WR-CALDESC:Eventi per Palazzo Milzetti
REFRESH-INTERVAL;VALUE=DURATION:PT1H
X-Robots-Tag:noindex
X-PUBLISHED-TTL:PT1H
BEGIN:VTIMEZONE
TZID:Europe/Rome
BEGIN:DAYLIGHT
TZOFFSETFROM:+0100
TZOFFSETTO:+0200
TZNAME:CEST
DTSTART:20220327T010000
END:DAYLIGHT
BEGIN:STANDARD
TZOFFSETFROM:+0200
TZOFFSETTO:+0100
TZNAME:CET
DTSTART:20221030T010000
END:STANDARD
BEGIN:DAYLIGHT
TZOFFSETFROM:+0100
TZOFFSETTO:+0200
TZNAME:CEST
DTSTART:20230326T010000
END:DAYLIGHT
BEGIN:STANDARD
TZOFFSETFROM:+0200
TZOFFSETTO:+0100
TZNAME:CET
DTSTART:20231029T010000
END:STANDARD
BEGIN:DAYLIGHT
TZOFFSETFROM:+0100
TZOFFSETTO:+0200
TZNAME:CEST
DTSTART:20240331T010000
END:DAYLIGHT
BEGIN:STANDARD
TZOFFSETFROM:+0200
TZOFFSETTO:+0100
TZNAME:CET
DTSTART:20241027T010000
END:STANDARD
END:VTIMEZONE
BEGIN:VEVENT
DTSTART;TZID=Europe/Rome:20231105T090000
DTEND;TZID=Europe/Rome:20231105T183000
DTSTAMP:20260420T152302
CREATED:20260205T100530Z
LAST-MODIFIED:20260205T100552Z
UID:11637-1699174800-1699209000@palazzomilzetti.cultura.gov.it
SUMMARY:#DOMENICALMUSEO
DESCRIPTION:Domenica 5 novembre\nApertura 9.00 – 18.30\nIngresso gratuito \nSi rinnova l’appuntamento della prima domenica del mese ad ingresso gratuito\, previsto in tutti i siti statali (vedi sui social #domenicalmuseo). In occasione della tradizionale Fiera di San Rocco\, che si svolge nel quartiere in cui il museo è ubicato\, l’apertura sarà eccezionalmente estesa alla mattinata\, a partire dalle ore 9.00.\nL’antichissima Fiera di Faenza affonda le sue radici nel XIV secolo e si svolge nello stesso periodo dell’anno e negli stessi luoghi in cui è nata sette secoli fa.\nLa Fiera di San Rocco\, organizzata da Accademia Medioevale di Faenza\, ha il patrocino della Regione Emilia Romagna\, Provincia di Ravenna\, Comune di Faenza\, con la collaborazione dei Circoli del territorio rionale: Circolo Rione Verde\, S.P. Damiani\, Torricelli\, Villa Franchi e Pro Loco. Svoltasi ininterrottamente da secoli\, salvo le sospensioni dovute a guerre\, cambiamenti politici\, ecc…\, è tornata all’antico splendore occupando\, tra piazze\, corsi\, strade\, vicoli\, parchi e circoli\, un terzo del centro storico della città. \nIngresso gratuito
URL:https://palazzomilzetti.cultura.gov.it/event/domenicalmuseo-18/
LOCATION:Palazzo Milzetti\, Via Tonducci 15\, Faenza\, 48018\, Italy
ORGANIZER;CN="Palazzo Milzetti":MAILTO:mn-bo.pamilzetti-ra@cultura.gov.it
END:VEVENT
END:VCALENDAR