BEGIN:VCALENDAR
VERSION:2.0
PRODID:-//Palazzo Milzetti - ECPv6.15.20//NONSGML v1.0//EN
CALSCALE:GREGORIAN
METHOD:PUBLISH
X-WR-CALNAME:Palazzo Milzetti
X-ORIGINAL-URL:https://palazzomilzetti.cultura.gov.it
X-WR-CALDESC:Eventi per Palazzo Milzetti
REFRESH-INTERVAL;VALUE=DURATION:PT1H
X-Robots-Tag:noindex
X-PUBLISHED-TTL:PT1H
BEGIN:VTIMEZONE
TZID:Europe/Rome
BEGIN:DAYLIGHT
TZOFFSETFROM:+0100
TZOFFSETTO:+0200
TZNAME:CEST
DTSTART:20230326T010000
END:DAYLIGHT
BEGIN:STANDARD
TZOFFSETFROM:+0200
TZOFFSETTO:+0100
TZNAME:CET
DTSTART:20231029T010000
END:STANDARD
BEGIN:DAYLIGHT
TZOFFSETFROM:+0100
TZOFFSETTO:+0200
TZNAME:CEST
DTSTART:20240331T010000
END:DAYLIGHT
BEGIN:STANDARD
TZOFFSETFROM:+0200
TZOFFSETTO:+0100
TZNAME:CET
DTSTART:20241027T010000
END:STANDARD
BEGIN:DAYLIGHT
TZOFFSETFROM:+0100
TZOFFSETTO:+0200
TZNAME:CEST
DTSTART:20250330T010000
END:DAYLIGHT
BEGIN:STANDARD
TZOFFSETFROM:+0200
TZOFFSETTO:+0100
TZNAME:CET
DTSTART:20251026T010000
END:STANDARD
END:VTIMEZONE
BEGIN:VEVENT
DTSTART;TZID=Europe/Rome:20240901T133000
DTEND;TZID=Europe/Rome:20240901T183000
DTSTAMP:20260422T133632
CREATED:20260204T152349Z
LAST-MODIFIED:20260204T152349Z
UID:11532-1725197400-1725215400@palazzomilzetti.cultura.gov.it
SUMMARY:#DOMENICALMUSEO – ARGILLA’
DESCRIPTION:Domenica 1 settembre\n#DOMENICALMUSEO\nARGILLA’\nApertura 13.30 – 18.30\nIngresso gratuito \nL’apertura gratuita della prima domenica del mese quest’anno coincide con “Argillà” – Festa Internazionale della Ceramica e Mostra Mercato che si svolge quest’anno a Faenza il 30-31 agosto e 1° settembre. Una bellissima occasione per venire in città e visitare gratuitamente il nostro fantastico museo dove è allestita la mostra Oltre il Neoclassico. Kéramos a Palazzo Milzetti.
URL:https://palazzomilzetti.cultura.gov.it/event/domenicalmuseo-argilla/
LOCATION:Palazzo Milzetti\, Via Tonducci 15\, Faenza\, 48018\, Italy
ORGANIZER;CN="Palazzo Milzetti":MAILTO:mn-bo.pamilzetti-ra@cultura.gov.it
END:VEVENT
END:VCALENDAR