BEGIN:VCALENDAR
VERSION:2.0
PRODID:-//Palazzo Milzetti - ECPv6.15.20//NONSGML v1.0//EN
CALSCALE:GREGORIAN
METHOD:PUBLISH
X-WR-CALNAME:Palazzo Milzetti
X-ORIGINAL-URL:https://palazzomilzetti.cultura.gov.it
X-WR-CALDESC:Eventi per Palazzo Milzetti
REFRESH-INTERVAL;VALUE=DURATION:PT1H
X-Robots-Tag:noindex
X-PUBLISHED-TTL:PT1H
BEGIN:VTIMEZONE
TZID:Europe/Rome
BEGIN:DAYLIGHT
TZOFFSETFROM:+0100
TZOFFSETTO:+0200
TZNAME:CEST
DTSTART:20240331T010000
END:DAYLIGHT
BEGIN:STANDARD
TZOFFSETFROM:+0200
TZOFFSETTO:+0100
TZNAME:CET
DTSTART:20241027T010000
END:STANDARD
BEGIN:DAYLIGHT
TZOFFSETFROM:+0100
TZOFFSETTO:+0200
TZNAME:CEST
DTSTART:20250330T010000
END:DAYLIGHT
BEGIN:STANDARD
TZOFFSETFROM:+0200
TZOFFSETTO:+0100
TZNAME:CET
DTSTART:20251026T010000
END:STANDARD
BEGIN:DAYLIGHT
TZOFFSETFROM:+0100
TZOFFSETTO:+0200
TZNAME:CEST
DTSTART:20260329T010000
END:DAYLIGHT
BEGIN:STANDARD
TZOFFSETFROM:+0200
TZOFFSETTO:+0100
TZNAME:CET
DTSTART:20261025T010000
END:STANDARD
END:VTIMEZONE
BEGIN:VEVENT
DTSTART;TZID=Europe/Rome:20251005T150000
DTEND;TZID=Europe/Rome:20251005T160000
DTSTAMP:20260422T153117
CREATED:20260203T153425Z
LAST-MODIFIED:20260203T153615Z
UID:11379-1759676400-1759680000@palazzomilzetti.cultura.gov.it
SUMMARY:#domenicalmuseo/Le domeniche della scienza e dell’arte
DESCRIPTION:Domenica 5 ottobre\n#DOMENICALMUSEO\nLE DOMENICHE DELLA SCIENZA E DELL’ARTE\nDa Palazzo Milzetti al MIC a Casa Bendandi\nApertura 13.30 – 18.30\nOre 15.00 Visita guidata\nIl Sole\, nostra stella madre\, nell’arte e nella scienza\na cura dei Servizi Educativi del Museo\, in collaborazione con MIC Faenza e Casa Museo Bendandi\nIngresso gratuito \nSi rinnova l’appuntamento della prima domenica del mese ad ingresso gratuito\, previsto in tutti i siti statali (vedi sui social #domenicalmuseo). \nAlle ore 15.00 partirà da Palazzo Milzetti una visita guidata che farà tappa anche al Museo Internazionale delle Ceramiche (ore 16.00) ed infine\, alle 17.00\, alla Casa Museo Bendandi. \nIl percorso di visita proposto esplorerà il Sole\, stella fonte di vita per i terrestri\, nell’arte e nella scienza.\nA Palazzo Milzetti si ammirerà la splendida decorazione dedicata al mito di Apollo\, con il Dio del Sole trainato per il cielo e preceduto dall’Aurora\, magistralmente dipinta da Felice Giani.\nAl MIC la visita verterà sulle sculture in mostra per il 63° Premio Faenza\, Biennale Internazionale della ceramica d’Arte\, opere che interpretano la luce e i bagliori scintillanti\, che dalle stelle arrivano agli smalti delle superfici ceramiche.\nIl percorso si concluderà infine a Casa Museo Bendandi\, dove il racconto sarà dedicato al sistema solare e ai corpi celesti che gravitano intorno a noi. Un universo misterioso ed affascinate\, che conosceremo un po’ meglio. \nIngresso gratuito in occasione di #domenicalmuseo.
URL:https://palazzomilzetti.cultura.gov.it/event/domenicalmuseo-le-domeniche-della-scienza-e-dellarte/
LOCATION:Palazzo Milzetti\, Via Tonducci 15\, Faenza\, 48018\, Italy
ATTACH;FMTTYPE=image/jpeg:https://palazzomilzetti.cultura.gov.it/wp-content/uploads/2025/10/Milzetti-locandine-sito_domenicaalmuseo.jpg
ORGANIZER;CN="Palazzo Milzetti":MAILTO:mn-bo.pamilzetti-ra@cultura.gov.it
END:VEVENT
END:VCALENDAR