BEGIN:VCALENDAR
VERSION:2.0
PRODID:-//Palazzo Milzetti - ECPv6.15.20//NONSGML v1.0//EN
CALSCALE:GREGORIAN
METHOD:PUBLISH
X-WR-CALNAME:Palazzo Milzetti
X-ORIGINAL-URL:https://palazzomilzetti.cultura.gov.it
X-WR-CALDESC:Eventi per Palazzo Milzetti
REFRESH-INTERVAL;VALUE=DURATION:PT1H
X-Robots-Tag:noindex
X-PUBLISHED-TTL:PT1H
BEGIN:VTIMEZONE
TZID:Europe/Rome
BEGIN:DAYLIGHT
TZOFFSETFROM:+0100
TZOFFSETTO:+0200
TZNAME:CEST
DTSTART:20240331T010000
END:DAYLIGHT
BEGIN:STANDARD
TZOFFSETFROM:+0200
TZOFFSETTO:+0100
TZNAME:CET
DTSTART:20241027T010000
END:STANDARD
BEGIN:DAYLIGHT
TZOFFSETFROM:+0100
TZOFFSETTO:+0200
TZNAME:CEST
DTSTART:20250330T010000
END:DAYLIGHT
BEGIN:STANDARD
TZOFFSETFROM:+0200
TZOFFSETTO:+0100
TZNAME:CET
DTSTART:20251026T010000
END:STANDARD
BEGIN:DAYLIGHT
TZOFFSETFROM:+0100
TZOFFSETTO:+0200
TZNAME:CEST
DTSTART:20260329T010000
END:DAYLIGHT
BEGIN:STANDARD
TZOFFSETFROM:+0200
TZOFFSETTO:+0100
TZNAME:CET
DTSTART:20261025T010000
END:STANDARD
END:VTIMEZONE
BEGIN:VEVENT
DTSTART;TZID=Europe/Rome:20250125T150000
DTEND;TZID=Europe/Rome:20250125T180000
DTSTAMP:20260423T144548
CREATED:20260203T171719Z
LAST-MODIFIED:20260203T171719Z
UID:11476-1737817200-1737828000@palazzomilzetti.cultura.gov.it
SUMMARY:Faenza neoclassica: itinerari tra arte e bellezza
DESCRIPTION:Sabato 25 gennaio\nApertura 9.00 – 18.30\nOre 15.00 Visita guidata\na cura dei Servizi Educativi del Museo \nIl periodo neoclassico è a Faenza uno straordinario momento di vivacità culturale ed artistica: tra il 1780 e il 1820 la città assiste ad una eccezionale fioritura di edifici e alla realizzazione di dipinti\, sculture\, decorazioni e arredi\, eseguiti da grandi artisti e botteghe artigiane di alta specializzazione\, prima tra tutte quella di Felice Giani.\nDi questa cultura\, realizzata nel segno di un ritorno all’antico contraddistinto da creatività\, eleganza e raffinatezza\, rimane ancora oggi preziosa testimonianza nelle architetture e negli interni di palazzi e di musei della città. \nIl progetto Faenza Neoclassica: itinerari tra arte e bellezza coinvolge quattro sedi: Palazzo Milzetti\, la Pinacoteca Civica\, la Galleria Comunale d’Arte\, con la mostra Omaggio a Felice Giani\, e Palazzo Laderchi a Faenza. \nIn ogni sede i visitatori verranno accolti e accompagnati da una guida che illustrerà il ruolo di Felice Giani e del neoclassicismo in genere. \nGli appuntamenti nelle varie sedi sono previsti ai seguenti orari: \nore 15.00: Palazzo Milzetti\nore 16.00: Pinacoteca Civica\nore 16.45: Galleria Comunale d’Arte\nore 17.30: Palazzo Laderchi \nLe visite guidate sono gratuite. A Palazzo Milzetti e in Pinacoteca si accede con biglietto ordinario\, con le tariffe vigenti (gratuito a Palazzo Milzetti per i possessori di Carta Milzetti). \n  \n\n\n\nINTERO\nAGEVOLATO\nGRATUITO\n\n\n€ 5\,00\n€ 2\,00 (18-25 anni)\n0-18 anni\nPossessori della Carta Milzetti\nAltre gratuità previste
URL:https://palazzomilzetti.cultura.gov.it/event/faenza-neoclassica-itinerari-tra-arte-e-bellezza-3/
LOCATION:Palazzo Milzetti\, Via Tonducci 15\, Faenza\, 48018\, Italy
ATTACH;FMTTYPE=image/jpeg:https://palazzomilzetti.cultura.gov.it/wp-content/uploads/2025/05/itinerari-arte-e-bellezza-25-gennaio.jpg
ORGANIZER;CN="Palazzo Milzetti":MAILTO:mn-bo.pamilzetti-ra@cultura.gov.it
END:VEVENT
END:VCALENDAR