BEGIN:VCALENDAR
VERSION:2.0
PRODID:-//Palazzo Milzetti - ECPv6.15.20//NONSGML v1.0//EN
CALSCALE:GREGORIAN
METHOD:PUBLISH
X-WR-CALNAME:Palazzo Milzetti
X-ORIGINAL-URL:https://palazzomilzetti.cultura.gov.it
X-WR-CALDESC:Eventi per Palazzo Milzetti
REFRESH-INTERVAL;VALUE=DURATION:PT1H
X-Robots-Tag:noindex
X-PUBLISHED-TTL:PT1H
BEGIN:VTIMEZONE
TZID:Europe/Rome
BEGIN:DAYLIGHT
TZOFFSETFROM:+0100
TZOFFSETTO:+0200
TZNAME:CEST
DTSTART:20230326T010000
END:DAYLIGHT
BEGIN:STANDARD
TZOFFSETFROM:+0200
TZOFFSETTO:+0100
TZNAME:CET
DTSTART:20231029T010000
END:STANDARD
BEGIN:DAYLIGHT
TZOFFSETFROM:+0100
TZOFFSETTO:+0200
TZNAME:CEST
DTSTART:20240331T010000
END:DAYLIGHT
BEGIN:STANDARD
TZOFFSETFROM:+0200
TZOFFSETTO:+0100
TZNAME:CET
DTSTART:20241027T010000
END:STANDARD
BEGIN:DAYLIGHT
TZOFFSETFROM:+0100
TZOFFSETTO:+0200
TZNAME:CEST
DTSTART:20250330T010000
END:DAYLIGHT
BEGIN:STANDARD
TZOFFSETFROM:+0200
TZOFFSETTO:+0100
TZNAME:CET
DTSTART:20251026T010000
END:STANDARD
END:VTIMEZONE
BEGIN:VEVENT
DTSTART;TZID=Europe/Rome:20240623T133000
DTEND;TZID=Europe/Rome:20240623T183000
DTSTAMP:20260419T174900
CREATED:20260205T074718Z
LAST-MODIFIED:20260205T074751Z
UID:11558-1719149400-1719167400@palazzomilzetti.cultura.gov.it
SUMMARY:Niballo – Palio di Faenza
DESCRIPTION:Domenica 23 giugno\nNiballo – Palio di Faenza\nApertura 13.30 – 18.30\nIngresso gratuito \nIl 23 giugno 2024\, in occasione del Palio del Niballo a Faenza\, l’ingresso a Palazzo Milzetti – Museo Nazionale dell’età neoclassica in Romagna sarà gratuito per tutti i visitatori. \nLa data rientra tra quelle individuare dal Ministero della Cultura come giornate di libero accesso definite in maniera differenziata sul territorio e scelte in relazione a festività od eventi speciali della località in cui il Museo è collocato.
URL:https://palazzomilzetti.cultura.gov.it/event/niballo-palio-di-faenza/
LOCATION:Palazzo Milzetti\, Via Tonducci 15\, Faenza\, 48018\, Italy
ATTACH;FMTTYPE=image/jpeg:https://palazzomilzetti.cultura.gov.it/wp-content/uploads/2025/06/NIBALLO-22-GIU-508309385_1131842922322116_3021617182784422147_n.jpg
ORGANIZER;CN="Palazzo Milzetti":MAILTO:mn-bo.pamilzetti-ra@cultura.gov.it
END:VEVENT
END:VCALENDAR