BEGIN:VCALENDAR
VERSION:2.0
PRODID:-//Palazzo Milzetti - ECPv6.15.20//NONSGML v1.0//EN
CALSCALE:GREGORIAN
METHOD:PUBLISH
X-WR-CALNAME:Palazzo Milzetti
X-ORIGINAL-URL:https://palazzomilzetti.cultura.gov.it
X-WR-CALDESC:Eventi per Palazzo Milzetti
REFRESH-INTERVAL;VALUE=DURATION:PT1H
X-Robots-Tag:noindex
X-PUBLISHED-TTL:PT1H
BEGIN:VTIMEZONE
TZID:Europe/Rome
BEGIN:DAYLIGHT
TZOFFSETFROM:+0100
TZOFFSETTO:+0200
TZNAME:CEST
DTSTART:20230326T010000
END:DAYLIGHT
BEGIN:STANDARD
TZOFFSETFROM:+0200
TZOFFSETTO:+0100
TZNAME:CET
DTSTART:20231029T010000
END:STANDARD
BEGIN:DAYLIGHT
TZOFFSETFROM:+0100
TZOFFSETTO:+0200
TZNAME:CEST
DTSTART:20240331T010000
END:DAYLIGHT
BEGIN:STANDARD
TZOFFSETFROM:+0200
TZOFFSETTO:+0100
TZNAME:CET
DTSTART:20241027T010000
END:STANDARD
BEGIN:DAYLIGHT
TZOFFSETFROM:+0100
TZOFFSETTO:+0200
TZNAME:CEST
DTSTART:20250330T010000
END:DAYLIGHT
BEGIN:STANDARD
TZOFFSETFROM:+0200
TZOFFSETTO:+0100
TZNAME:CET
DTSTART:20251026T010000
END:STANDARD
END:VTIMEZONE
BEGIN:VEVENT
DTSTART;TZID=Europe/Rome:20241101T163000
DTEND;TZID=Europe/Rome:20241101T183000
DTSTAMP:20260424T194225
CREATED:20260204T143725Z
LAST-MODIFIED:20260204T144114Z
UID:11508-1730478600-1730485800@palazzomilzetti.cultura.gov.it
SUMMARY:Ognissanti
DESCRIPTION:Venerdì 1 novembre\nApertura 9.00 – 18.30\nOre 16.30 Visita guidata\nLa vita e la morte nell’Antichità\, tra arte e mito\na cura dei Servizi Educativi del Museo \nCome vedeva il mondo antico il passaggio dalla vita alla morte? Quali erano le credenze sull’oltretomba? In che modo le ritroviamo nella cultura moderna? A queste e altre domande verrà data una risposta durante la visita guidata\, cercando tra le immagini che compongono l’apparato decorativo di Palazzo Milzetti. \nIngresso con il biglietto del Museo\, gratuito per i possessori della Carta Milzetti. Si consiglia la prenotazione scrivendo a drm-ero.pamilzetti-ra@cultura.gov.it o telefonando a 0546 26493. \n  \n\n\n\nINTERO\nAGEVOLATO\nGRATUITO\n\n\n€ 5\,00\n€ 2\,00 (18-25 anni)\n0-18 anni\nPossessori della Carta Milzetti\nAltre gratuità previste
URL:https://palazzomilzetti.cultura.gov.it/event/ognissanti/
LOCATION:Palazzo Milzetti\, Via Tonducci 15\, Faenza\, 48018\, Italy
ATTACH;FMTTYPE=image/jpeg:https://palazzomilzetti.cultura.gov.it/wp-content/uploads/2024/11/1-novembre-464788853_957051746467902_4157950793033156152_n.jpg
ORGANIZER;CN="Palazzo Milzetti":MAILTO:mn-bo.pamilzetti-ra@cultura.gov.it
END:VEVENT
END:VCALENDAR