BEGIN:VCALENDAR
VERSION:2.0
PRODID:-//Palazzo Milzetti - ECPv6.15.20//NONSGML v1.0//EN
CALSCALE:GREGORIAN
METHOD:PUBLISH
X-WR-CALNAME:Palazzo Milzetti
X-ORIGINAL-URL:https://palazzomilzetti.cultura.gov.it
X-WR-CALDESC:Eventi per Palazzo Milzetti
REFRESH-INTERVAL;VALUE=DURATION:PT1H
X-Robots-Tag:noindex
X-PUBLISHED-TTL:PT1H
BEGIN:VTIMEZONE
TZID:Europe/Rome
BEGIN:DAYLIGHT
TZOFFSETFROM:+0100
TZOFFSETTO:+0200
TZNAME:CEST
DTSTART:20240331T010000
END:DAYLIGHT
BEGIN:STANDARD
TZOFFSETFROM:+0200
TZOFFSETTO:+0100
TZNAME:CET
DTSTART:20241027T010000
END:STANDARD
BEGIN:DAYLIGHT
TZOFFSETFROM:+0100
TZOFFSETTO:+0200
TZNAME:CEST
DTSTART:20250330T010000
END:DAYLIGHT
BEGIN:STANDARD
TZOFFSETFROM:+0200
TZOFFSETTO:+0100
TZNAME:CET
DTSTART:20251026T010000
END:STANDARD
BEGIN:DAYLIGHT
TZOFFSETFROM:+0100
TZOFFSETTO:+0200
TZNAME:CEST
DTSTART:20260329T010000
END:DAYLIGHT
BEGIN:STANDARD
TZOFFSETFROM:+0200
TZOFFSETTO:+0100
TZNAME:CET
DTSTART:20261025T010000
END:STANDARD
END:VTIMEZONE
BEGIN:VEVENT
DTSTART;TZID=Europe/Rome:20250716T210000
DTEND;TZID=Europe/Rome:20250716T230000
DTSTAMP:20260424T190251
CREATED:20260203T155907Z
LAST-MODIFIED:20260203T160201Z
UID:11406-1752699600-1752706800@palazzomilzetti.cultura.gov.it
SUMMARY:Serate d’estate a Palazzo Milzetti
DESCRIPTION:Mercoledì 16 luglio\nSERATE D’ESTATE A PALAZZO MILZETTI\nApertura straordinaria serale 19.00-23.00\nore 21.00 Visita guidata\nFabulae candidae: i bassorilievi di Palazzo Milzetti\na cura dei Servizi Educativi del Museo \nI colori e l’estro delle pitture di Felice Giani catturano immediatamente lo sguardo del visitatore\, che spesso non presta attenzione ad una parte molto importante degli apparati decorativi del piano nobile: i bassorilievi. Progettati anch’essi dal pittore piemontese – molti disegni si sono conservati ed un corposo nucleo si trova al Cooper-Hewitt Museum di New York – vennero affidati per l’esecuzione ad Antonio Trentanove ed ai fratelli Ballanti Graziani. Il primo realizzò due pannelli con le storie di Fetonte nell’Atrio Ottagonale e sovrapporte nell’appartamento ristrutturato al primo piano in vista delle nozze tra il conte Francesco Milzetti e Giacinta Marchetti degli Angelini; al Trentanove\, trasferitosi a Carrara dal 1804\, subentrarono i faentini Giovan Battista e Francesco Ballanti Graziani\, dei quali si ricordano in particolare le lesene del Salone delle Feste\, sulle quali compare la loro firma per ben cinque volte.\nLa visita proposta per questa apertura serale si concentrerà dunque sulle storie narrate a rilievo\, storie di grandi eroi dell’antichità\, quali Annibale\, Achille\, Ulisse\, e ancora Fetonte\, Lucrezia\, Coriolano… Storie complementari e affascinanti quanto le tempere\, ma di una eleganza che passa quasi inosservata. \nIngresso con il biglietto del Museo\, gratuito per i possessori della Carta Milzetti. Si consiglia la prenotazione scrivendo a mn-bo.pamilzetti-ra@cultura.gov.it o telefonando al numero 0546 26493. \n  \n\n\n\nINTERO\nAGEVOLATO\nGRATUITO\n\n\n€ 5\,00\n€ 2\,00 (18-25 anni)\n0-18 anni\nPossessori della Carta Milzetti\nAltre gratuità previste
URL:https://palazzomilzetti.cultura.gov.it/event/serate-destate-a-palazzo-milzetti-3/
LOCATION:Palazzo Milzetti\, Via Tonducci 15\, Faenza\, 48018\, Italy
ATTACH;FMTTYPE=image/png:https://palazzomilzetti.cultura.gov.it/wp-content/uploads/2025/07/Fabulae-candidae4.png
ORGANIZER;CN="Palazzo Milzetti":MAILTO:mn-bo.pamilzetti-ra@cultura.gov.it
END:VEVENT
END:VCALENDAR