BEGIN:VCALENDAR
VERSION:2.0
PRODID:-//Palazzo Milzetti - ECPv6.15.20//NONSGML v1.0//EN
CALSCALE:GREGORIAN
METHOD:PUBLISH
X-WR-CALNAME:Palazzo Milzetti
X-ORIGINAL-URL:https://palazzomilzetti.cultura.gov.it
X-WR-CALDESC:Eventi per Palazzo Milzetti
REFRESH-INTERVAL;VALUE=DURATION:PT1H
X-Robots-Tag:noindex
X-PUBLISHED-TTL:PT1H
BEGIN:VTIMEZONE
TZID:Europe/Rome
BEGIN:DAYLIGHT
TZOFFSETFROM:+0100
TZOFFSETTO:+0200
TZNAME:CEST
DTSTART:20240331T010000
END:DAYLIGHT
BEGIN:STANDARD
TZOFFSETFROM:+0200
TZOFFSETTO:+0100
TZNAME:CET
DTSTART:20241027T010000
END:STANDARD
BEGIN:DAYLIGHT
TZOFFSETFROM:+0100
TZOFFSETTO:+0200
TZNAME:CEST
DTSTART:20250330T010000
END:DAYLIGHT
BEGIN:STANDARD
TZOFFSETFROM:+0200
TZOFFSETTO:+0100
TZNAME:CET
DTSTART:20251026T010000
END:STANDARD
BEGIN:DAYLIGHT
TZOFFSETFROM:+0100
TZOFFSETTO:+0200
TZNAME:CEST
DTSTART:20260329T010000
END:DAYLIGHT
BEGIN:STANDARD
TZOFFSETFROM:+0200
TZOFFSETTO:+0100
TZNAME:CET
DTSTART:20261025T010000
END:STANDARD
END:VTIMEZONE
BEGIN:VEVENT
DTSTART;TZID=Europe/Rome:20250709T210000
DTEND;TZID=Europe/Rome:20250709T230000
DTSTAMP:20260422T191355
CREATED:20260203T160332Z
LAST-MODIFIED:20260203T160332Z
UID:11408-1752094800-1752102000@palazzomilzetti.cultura.gov.it
SUMMARY:Serate d’estate a Palazzo Milzetti
DESCRIPTION:Mercoledì 9 luglio\nSERATE D’ESTATE A PALAZZO MILZETTI\nApertura straordinaria serale 19.00-23.00\nore 21.00 Visita guidata\nL’arte del convivio. Banchetti e feste tra classicità e neoclassicismo\na cura dei Servizi Educativi del Museo \nI banchetti e le feste sono definiti nella storia come “un momento sociale”\, un rituale conviviale.\nAttorno alla tavola e ai ricevimenti ruotano dinamiche e regole sociali e culturali che mutano nel tempo e con esse cambiano i servizi\, l’attrezzatura culinaria\, la tradizione gastronomica e le buone maniere dei commensali. Alla tavola e al vivere quotidiano erano dedicati interi manuali di cucina\, le regole imprescindibili per apparecchiare e servire a tavola e quali portate componevano un perfetto menù.\nDa sempre i banchetti e le feste sono stati il fulcro delle occasioni conviviali\, in famiglia e in società: a tavola e nel corso di festeggiamenti si sono siglati accordi politici e promesse di matrimonio\, si sono strette alleanze e affari economici\, si sono onorate vecchie amicizie e ne sono nate di nuove. Insomma\, sia nella sfera privata che in quella pubblica\, banchetti e feste sono stati e sono il palcoscenico in cui i commensali possono dare sfoggio della propria arte\, per essere accorti\, affabili e brillanti nelle diverse circostanze.\nLe cucine storiche e il salone delle feste della dimora dei conti Milzetti mostrano orgogliosi\, da un lato\, le loro apparecchiature ottocentesche con stoviglie\, zuppiere\, brocche ed ornamenti\, dall’altro\, gli spazi che ospitavano gli eventi. \nIngresso con il biglietto del Museo\, gratuito per i possessori della Carta Milzetti. Si consiglia la prenotazione scrivendo a mn-bo.pamilzetti-ra@cultura.gov.it o telefonando al numero 0546 26493. \n  \n\n\n\nINTERO\nAGEVOLATO\nGRATUITO\n\n\n€ 5\,00\n€ 2\,00 (18-25 anni)\n0-18 anni\nPossessori della Carta Milzetti\nAltre gratuità previste
URL:https://palazzomilzetti.cultura.gov.it/event/serate-destate-a-palazzo-milzetti-4/
LOCATION:Palazzo Milzetti\, Via Tonducci 15\, Faenza\, 48018\, Italy
ORGANIZER;CN="Palazzo Milzetti":MAILTO:mn-bo.pamilzetti-ra@cultura.gov.it
END:VEVENT
END:VCALENDAR