BEGIN:VCALENDAR
VERSION:2.0
PRODID:-//Palazzo Milzetti - ECPv6.15.20//NONSGML v1.0//EN
CALSCALE:GREGORIAN
METHOD:PUBLISH
X-WR-CALNAME:Palazzo Milzetti
X-ORIGINAL-URL:https://palazzomilzetti.cultura.gov.it
X-WR-CALDESC:Eventi per Palazzo Milzetti
REFRESH-INTERVAL;VALUE=DURATION:PT1H
X-Robots-Tag:noindex
X-PUBLISHED-TTL:PT1H
BEGIN:VTIMEZONE
TZID:Europe/Rome
BEGIN:DAYLIGHT
TZOFFSETFROM:+0100
TZOFFSETTO:+0200
TZNAME:CEST
DTSTART:20240331T010000
END:DAYLIGHT
BEGIN:STANDARD
TZOFFSETFROM:+0200
TZOFFSETTO:+0100
TZNAME:CET
DTSTART:20241027T010000
END:STANDARD
BEGIN:DAYLIGHT
TZOFFSETFROM:+0100
TZOFFSETTO:+0200
TZNAME:CEST
DTSTART:20250330T010000
END:DAYLIGHT
BEGIN:STANDARD
TZOFFSETFROM:+0200
TZOFFSETTO:+0100
TZNAME:CET
DTSTART:20251026T010000
END:STANDARD
BEGIN:DAYLIGHT
TZOFFSETFROM:+0100
TZOFFSETTO:+0200
TZNAME:CEST
DTSTART:20260329T010000
END:DAYLIGHT
BEGIN:STANDARD
TZOFFSETFROM:+0200
TZOFFSETTO:+0100
TZNAME:CET
DTSTART:20261025T010000
END:STANDARD
END:VTIMEZONE
BEGIN:VEVENT
DTSTART;TZID=Europe/Rome:20251018T160000
DTEND;TZID=Europe/Rome:20251018T180000
DTSTAMP:20260424T172349
CREATED:20260203T152225Z
LAST-MODIFIED:20260203T152319Z
UID:11368-1760803200-1760810400@palazzomilzetti.cultura.gov.it
SUMMARY:Spazialità sonore
DESCRIPTION:Sabato 18 ottobre\nSPAZIALITA’ SONORE\nApertura 9.00-18.30\nOre 16.00\nUnusual Suite\nClub Alieno – danza\nOre 17.00\nDouble Bill\nDNA – danza \nUnusual Suite\nAzioni di danza in spazi non convenzionali\nIdeazione e Coreografia: Eleonora Gennari\, Valeria Fiorini\nMusiche originali: Kino\nNegli spazi consacrati al rigore della forma come quelli di un museo neoclassico\, custode di un passato sempre vivo ed eterno\, i corpi alieni irrompono\, scivolano\, si svuotano e si riempiono sino ad espandersi. Luoghi quotidiani abitano le diverse stanze che custodiscono l’idea di ordine\, equilibrio e proporzione restituendo un frammento di visione\, un accadimento\, una distorsione\, come se intorno non ci fosse nessuno\, nell’intimità della propria stanza. Una liturgia instabile tra presente e passato\, in un tempo non precisamente definito. Un invito a disallinearsi. \nDouble Bill\nUNREAL\nCoreografie: Lali Ayguadé\nDanzano: Giulia Avola\, Iris Berdicchia\, Irene Boncivinni\, Giovanni Boni\, Semme Lois Buurman\, Noemi Carletti\, Noemi Catarzi\, Letizia Cossari\, Riccardo Di Frangia\, Martina Giambertone\, Mattia Marroncini\, Duccio Neri\, Lorenzo Paoli\, Henry Tanzini\, Linda Vitale\, JaydonWijdenes.\nLa vita è un viaggio pieno di incertezza. Spesso ci sentiamo persi\, alla ricerca di una direzione\, eppure la vita stessa è più forte di noi: non può essere controllata. Le cose si svolgono inaspettatamente\, sorprendendoci quando meno ce lo aspettiamo.\nCiò che oggi sembra in un modo può cambiare all’improvviso domani. In questo mondo imprevedibile\, dobbiamo imparare non solo come vivere insieme agli altri\, ma anche come abbracciare la solitudine e trovare la pace dentro noi stessi. \nGET THE WAY TO GET AWAY\nCoreografie: Teresa Bagnoli\, Jennifer Lavinia Rosati\, Lorenzo di Rocco\nDanzano: Giulia Avola\, India Beligni\, Iris Berdicchia\, Irene Boncivinni\, Giovanni Boni\, Semme Lois Buurman\, Noemi Carletti\, Noemi Catarzi\, Letizia Cossari\, Riccardo Di Frangia\, Martina Giambertone\, Chen Hongjun\, Mattia Marroncini\, Duccio Neri\, Lorenzo Paoli\, Henry Tanzini\, Linda Vitale\, JaydonWijdenes.\nPensieri che si allungano come ombre\, paure che prendono forma\, si stringono attorno\, soffocano. Eppure\, quelle stesse ombre possono mutare\, diventando sostegno\, da ostacoli rifugio. Non sono altro che uomini\, pronti a sorreggere ed accogliere.\nLa solitudine si dissolve nell’incontro\, il peso si fa più leggero. La paura esiste\, ma insieme si può attraversare. \nIngresso con biglietto del museo\, gratuito per i possessori della “Carta Milzetti”.\nAccesso sino ad esaurimento posti\, è consigliata la prenotazione.\nPer informazioni e prenotazioni:\n+39 349 2500963\niristeatrodanza@gmail.com \n  \n\n\n\nINTERO\nAGEVOLATO\nGRATUITO\n\n\n€ 5\,00\n€ 2\,00 (18-25 anni)\n0-18 anni\nPossessori della Carta Milzetti\nAltre gratuità previste
URL:https://palazzomilzetti.cultura.gov.it/event/spazialita-sonore-2/
LOCATION:Palazzo Milzetti\, Via Tonducci 15\, Faenza\, 48018\, Italy
ATTACH;FMTTYPE=image/jpeg:https://palazzomilzetti.cultura.gov.it/wp-content/uploads/2025/10/Milzetti-programma-ottobre-2025.jpg
ORGANIZER;CN="Palazzo Milzetti":MAILTO:mn-bo.pamilzetti-ra@cultura.gov.it
END:VEVENT
END:VCALENDAR