BEGIN:VCALENDAR
VERSION:2.0
PRODID:-//Palazzo Milzetti - ECPv6.15.20//NONSGML v1.0//EN
CALSCALE:GREGORIAN
METHOD:PUBLISH
X-WR-CALNAME:Palazzo Milzetti
X-ORIGINAL-URL:https://palazzomilzetti.cultura.gov.it
X-WR-CALDESC:Eventi per Palazzo Milzetti
REFRESH-INTERVAL;VALUE=DURATION:PT1H
X-Robots-Tag:noindex
X-PUBLISHED-TTL:PT1H
BEGIN:VTIMEZONE
TZID:Europe/Rome
BEGIN:DAYLIGHT
TZOFFSETFROM:+0100
TZOFFSETTO:+0200
TZNAME:CEST
DTSTART:20230326T010000
END:DAYLIGHT
BEGIN:STANDARD
TZOFFSETFROM:+0200
TZOFFSETTO:+0100
TZNAME:CET
DTSTART:20231029T010000
END:STANDARD
BEGIN:DAYLIGHT
TZOFFSETFROM:+0100
TZOFFSETTO:+0200
TZNAME:CEST
DTSTART:20240331T010000
END:DAYLIGHT
BEGIN:STANDARD
TZOFFSETFROM:+0200
TZOFFSETTO:+0100
TZNAME:CET
DTSTART:20241027T010000
END:STANDARD
BEGIN:DAYLIGHT
TZOFFSETFROM:+0100
TZOFFSETTO:+0200
TZNAME:CEST
DTSTART:20250330T010000
END:DAYLIGHT
BEGIN:STANDARD
TZOFFSETFROM:+0200
TZOFFSETTO:+0100
TZNAME:CET
DTSTART:20251026T010000
END:STANDARD
END:VTIMEZONE
BEGIN:VEVENT
DTSTART;TZID=Europe/Rome:20240615T163000
DTEND;TZID=Europe/Rome:20240615T180000
DTSTAMP:20260421T151355
CREATED:20260205T074851Z
LAST-MODIFIED:20260205T074851Z
UID:11561-1718469000-1718474400@palazzomilzetti.cultura.gov.it
SUMMARY:Visita guidata
DESCRIPTION:Sabato 15 giugno\nApertura 9.00 – 18.30\nOre 16.30 Visita guidata\nLa vita quotidiana ai tempi dei Milzetti\na cura dei Servizi Educativi del Museo \nUna giornata in casa dei Conti Milzetti\, per scoprire il vivere quotidiano agli inizi del XIX secolo. Partendo dalle stanze\, dalle loro caratteristiche\, dagli oggetti e dalle decorazioni vengono ricostruite le abitudini\, i riti sociali e le occupazioni della famiglia Milzetti. Dal piano terra al piano nobile\, dalle cucine al salone delle feste\, nulla rimane nascosto della vita di una nobile famiglia di provincia\, partecipe di un importante periodo storico. \nIngresso con il biglietto del Museo\, grauito per i possessori della Carta Milzetti. \n  \n\n\n\nINTERO\nAGEVOLATO\nGRATUITO\n\n\n€ 5\,00\n€ 2\,00 (18-25 anni)\n0-18 anni\nPossessori della Carta Milzetti\nAltre gratuità previste
URL:https://palazzomilzetti.cultura.gov.it/event/visita-guidata/
LOCATION:Palazzo Milzetti\, Via Tonducci 15\, Faenza\, 48018\, Italy
ORGANIZER;CN="Palazzo Milzetti":MAILTO:mn-bo.pamilzetti-ra@cultura.gov.it
END:VEVENT
END:VCALENDAR