BEGIN:VCALENDAR
VERSION:2.0
PRODID:-//Palazzo Milzetti - ECPv6.15.20//NONSGML v1.0//EN
CALSCALE:GREGORIAN
METHOD:PUBLISH
X-WR-CALNAME:Palazzo Milzetti
X-ORIGINAL-URL:https://palazzomilzetti.cultura.gov.it
X-WR-CALDESC:Eventi per Palazzo Milzetti
REFRESH-INTERVAL;VALUE=DURATION:PT1H
X-Robots-Tag:noindex
X-PUBLISHED-TTL:PT1H
BEGIN:VTIMEZONE
TZID:Europe/Rome
BEGIN:DAYLIGHT
TZOFFSETFROM:+0100
TZOFFSETTO:+0200
TZNAME:CEST
DTSTART:20250330T010000
END:DAYLIGHT
BEGIN:STANDARD
TZOFFSETFROM:+0200
TZOFFSETTO:+0100
TZNAME:CET
DTSTART:20251026T010000
END:STANDARD
BEGIN:DAYLIGHT
TZOFFSETFROM:+0100
TZOFFSETTO:+0200
TZNAME:CEST
DTSTART:20260329T010000
END:DAYLIGHT
BEGIN:STANDARD
TZOFFSETFROM:+0200
TZOFFSETTO:+0100
TZNAME:CET
DTSTART:20261025T010000
END:STANDARD
BEGIN:DAYLIGHT
TZOFFSETFROM:+0100
TZOFFSETTO:+0200
TZNAME:CEST
DTSTART:20270328T010000
END:DAYLIGHT
BEGIN:STANDARD
TZOFFSETFROM:+0200
TZOFFSETTO:+0100
TZNAME:CET
DTSTART:20271031T010000
END:STANDARD
END:VTIMEZONE
BEGIN:VEVENT
DTSTART;TZID=Europe/Rome:20260419T163000
DTEND;TZID=Europe/Rome:20260419T183000
DTSTAMP:20260419T192325
CREATED:20260327T095607Z
LAST-MODIFIED:20260331T150348Z
UID:11934-1776616200-1776623400@palazzomilzetti.cultura.gov.it
SUMMARY:Giornate internazionali delle case della memoria e dei personaggi illustri
DESCRIPTION:Domenica 19 aprile 2026\nGIORNATE INTERNAZIONALI DELLE CASE DELLA MEMORIA e PERSONAGGI ILLUSTRI\nApertura 13.30- 18.30\nOre 16.30 Visita guidata\nIl palazzo di Francesco Milzetti\, nobile cavaliere alla corte di Napoleone\na cura dei Servizi Educativi del Museo \nPalazzo Milzetti partecipa alle Giornate internazionali delle case dei personaggi illustri del 18 e 19 aprile\, promosse dall’Associazione Nazionale Case della Memoria Personaggi illustri.\nIl nome del palazzo è legato a quello della famiglia Milzetti\, che ne divenne proprietaria all’inizio del ‘600\, per poi rinnovarlo completamente in gusto neoclassico tra la fine del Settecento e l’inizio dell’Ottocento.\nPrincipale protagonista del suo rinnovamento e committente della decorazione realizzata da Felice Giani con la sua bottega fu il conte Francesco Milzetti\, Cavaliere dell’Ordine di Santo Stefano\, con un’avviata carriera politica filo francese\, che lo portò a divenire capitano colonnello della Regia Guardia d’Onore alla corte milanese del viceré Eugenio di Beauharnais e cavaliere della Corona ferrea\, ordine istituito dallo stesso Napoleone Bonaparte.\nPalazzo Milzetti partecipa alle Giornate internazionali delle case dei personaggi illustri del 18 e 19 aprile\, promosse dall’Associazione Nazionale Case della Memoria Personaggi illustri.\nEvento incluso nel prezzo del biglietto del museo\, gratuito per i possessori della Carta Milzetti. Si consiglia la prenotazione scrivendo a mn-bo.pamilzetti-ra@cultura.gov.it o telefonando al numero 0546 26493. \nPer informazioni sull’iniziativa internazionale:\nhttps://www.casedellamemoria.it/en/ \n\n\n\nINTERO\nAGEVOLATO\nGRATUITO\n\n\n€ 5\,00\n€ 2\,00 (18-25 anni)\n0-18 anni\nPossessori della Carta Milzetti\nAltre gratuità previste
URL:https://palazzomilzetti.cultura.gov.it/event/giornate-internazionali-delle-case-della-memoria-e-dei-personaggi-illustri/
LOCATION:Palazzo Milzetti\, Via Tonducci 15\, Faenza\, 48018\, Italy
CATEGORIES:Mensile
ATTACH;FMTTYPE=image/jpeg:https://palazzomilzetti.cultura.gov.it/wp-content/uploads/2026/03/Milzetti-locandine-sito_19apr2026.jpg
ORGANIZER;CN="Palazzo Milzetti":MAILTO:mn-bo.pamilzetti-ra@cultura.gov.it
END:VEVENT
END:VCALENDAR